BEGIN:VCALENDAR
PRODID:http://wibix.de/infusions/pro_download_panel/download.php?did=27
VERSION:2.0
METHOD:PUBLISH
BEGIN:VEVENT
DTSTART:20180923T230000Z
UID:590@https://www.gminaterespol.pl/
DTSTAMP:20180802T055901Z
DESCRIPTION:Odpady segregowane
SUMMARY:Odpady segregowane - Kolonia Dobratycze, Kołpin Ogrodniki, Lebiedziew, Michalków, Murawiec, Podolanka, Polatycze, Zastawek, Żuki
CLASS:PUBLIC
END:VEVENT
END:VCALENDAR
